BEGIN:VCALENDAR
VERSION:2.0
PRODID:-//RELAN - ECPv6.15.20//NONSGML v1.0//EN
CALSCALE:GREGORIAN
METHOD:PUBLISH
X-ORIGINAL-URL:https://lasallian.info
X-WR-CALDESC:Events for RELAN
REFRESH-INTERVAL;VALUE=DURATION:PT1H
X-Robots-Tag:noindex
X-PUBLISHED-TTL:PT1H
BEGIN:VTIMEZONE
TZID:America/New_York
BEGIN:DAYLIGHT
TZOFFSETFROM:-0500
TZOFFSETTO:-0400
TZNAME:EDT
DTSTART:20220313T070000
END:DAYLIGHT
BEGIN:STANDARD
TZOFFSETFROM:-0400
TZOFFSETTO:-0500
TZNAME:EST
DTSTART:20221106T060000
END:STANDARD
BEGIN:DAYLIGHT
TZOFFSETFROM:-0500
TZOFFSETTO:-0400
TZNAME:EDT
DTSTART:20230312T070000
END:DAYLIGHT
BEGIN:STANDARD
TZOFFSETFROM:-0400
TZOFFSETTO:-0500
TZNAME:EST
DTSTART:20231105T060000
END:STANDARD
BEGIN:DAYLIGHT
TZOFFSETFROM:-0500
TZOFFSETTO:-0400
TZNAME:EDT
DTSTART:20240310T070000
END:DAYLIGHT
BEGIN:STANDARD
TZOFFSETFROM:-0400
TZOFFSETTO:-0500
TZNAME:EST
DTSTART:20241103T060000
END:STANDARD
BEGIN:DAYLIGHT
TZOFFSETFROM:-0500
TZOFFSETTO:-0400
TZNAME:EDT
DTSTART:20250309T070000
END:DAYLIGHT
BEGIN:STANDARD
TZOFFSETFROM:-0400
TZOFFSETTO:-0500
TZNAME:EST
DTSTART:20251102T060000
END:STANDARD
BEGIN:DAYLIGHT
TZOFFSETFROM:-0500
TZOFFSETTO:-0400
TZNAME:EDT
DTSTART:20260308T070000
END:DAYLIGHT
BEGIN:STANDARD
TZOFFSETFROM:-0400
TZOFFSETTO:-0500
TZNAME:EST
DTSTART:20261101T060000
END:STANDARD
END:VTIMEZONE
BEGIN:VEVENT
DTSTART;VALUE=DATE:20251016
DTEND;VALUE=DATE:20251019
DTSTAMP:20260425T163429
CREATED:20231218T223504Z
LAST-MODIFIED:20231218T223504Z
UID:10001162-1760572800-1760831999@lasallian.info
SUMMARY:Johnston Institute\, DENA Gathering
DESCRIPTION:Fifth cohort Johnston participants from the District of Eastern North America (DENA) will gather October 16-18\, 2025\, at the Shawnee Inn in Shawnee on Delaware\, Pennsylvania. \n\nThe Brother John Johnston Institute of Contemporary Lasallian Practice is a two-year Regional formation program that focuses on deepening participants’ understanding of Saint John Baptist de La Salle’s story and vision\, Lasallian pedagogy\, the Lasallian promotion of justice and Lasallian spirituality while utilizing contemporary texts to inform and influence current and future Lasallian practice.
URL:https://lasallian.info/event/johnston-institute-dena-gathering-oct25/
LOCATION:Shawnee Inn\, 100 Shawnee Inn Dr\, Shawnee on Delaware\, PA\, 18356
CATEGORIES:Programs
END:VEVENT
BEGIN:VEVENT
DTSTART;VALUE=DATE:20251009
DTEND;VALUE=DATE:20251012
DTSTAMP:20260425T163429
CREATED:20231218T194605Z
LAST-MODIFIED:20231218T213500Z
UID:10001156-1759968000-1760227199@lasallian.info
SUMMARY:Johnston Institute\, SFNO Gathering
DESCRIPTION:Fifth cohort Johnston participants from the District of San Francisco New Orleans (SFNO) will gather October 9-11\, 2025\, at The Cenacle on the Lake in Metairie\, Louisiana. \n\nThe Brother John Johnston Institute of Contemporary Lasallian Practice is a two-year Regional formation program that focuses on deepening participants’ understanding of Saint John Baptist de La Salle’s story and vision\, Lasallian pedagogy\, the Lasallian promotion of justice and Lasallian spirituality while utilizing contemporary texts to inform and influence current and future Lasallian practice.
URL:https://lasallian.info/event/johnston-institute-sfno-gathering-oct25/
LOCATION:The Cenacle on the Lake\, 5500 St Mary St.\, Metairie\, LA\, 70006\, United States
CATEGORIES:Programs
END:VEVENT
BEGIN:VEVENT
DTSTART;TZID=America/New_York:20250924T180000
DTEND;TZID=America/New_York:20250924T180000
DTSTAMP:20260425T163429
CREATED:20250916T175903Z
LAST-MODIFIED:20250916T180342Z
UID:10001203-1758736800-1758736800@lasallian.info
SUMMARY:1 La Salle: A Global Movement of the Spirit – Regional Webinar
DESCRIPTION:1 La Salle: A Global Movement of the Spirit\nDate: Wednesday\, Sept. 24\, 2025\, at 6:00 p.m. ET / 3:00 p.m. PT \nSpeaker: Emily Vogel\, Regional Animator\, 1 La Salle Initiative\, Christian Brothers Conference\, Romeoville\, IL \nAs we kick off the 2025-2026 school year\, we invite all Lasallian educators to join in a synodal style conversation regarding the 1 La Salle initiative that will be blossoming in the Lasallian Region of North America (RELAN) this year. Inspired by Saint La Salle and led by our Superior General Brother Armin Luistro\, FSC\, 1 La Salle seeks to elevate our collective mission efforts in our Region by strengthening our relationships with our Lasallian sisters and brothers around the world. Intertwining with the spirit of the Leavening Project\, 1 La Salle answers the call to “build windmills” and to find innovative ways to harness our desires for a better world. \nThis webinar will include breakout conversations and participants will be invited to share about their mission efforts which move beyond their particular ministry. Together and by association\, as we build our 1 La Salle movement in RELAN\, we will invite your dreams and visions for how we can continue to spread the Lasallian mission and deepen our impact on all who are entrusted to our care. \n\nRegister\n\n\nSee more of our upcoming and archived Regional webinars.
URL:https://lasallian.info/event/1-la-salle-a-global-movement-of-the-spirit-regional-webinar/
LOCATION:MO
CATEGORIES:Programs,Webinar
END:VEVENT
BEGIN:VEVENT
DTSTART;VALUE=DATE:20250919
DTEND;VALUE=DATE:20250922
DTSTAMP:20260425T163429
CREATED:20250826T173829Z
LAST-MODIFIED:20250826T173829Z
UID:10001202-1758240000-1758499199@lasallian.info
SUMMARY:Lasallian Spirituality Fellows Gathering
DESCRIPTION:The inaugural cohort of Lasallian Spirituality Fellows program will gather in-person in Ocean City\, New Jersey\, from Sept. 19-21\, 2025. \n\nThe Lasallian Spirituality Fellows program invites Lasallians to deepen their knowledge of Lasallian Spirituality while engaging in three in-person sessions and 15 virtual sessions over 18 months. The program presents Lasallian spirituality as a ministerial journey of faith\, in both a personal and a communal way. Participants will continue to embark on this journey as educators in Christ\, guided by the spirit for the good of the world\, particularly the young and the poor.
URL:https://lasallian.info/event/lasallian-spirituality-fellows-gathering-fall25/
LOCATION:Ocean Rest\, 3041 Central Avenue\, Ocean City\, NJ\, 082226\, United States
CATEGORIES:Programs
END:VEVENT
BEGIN:VEVENT
DTSTART;VALUE=DATE:20250721
DTEND;VALUE=DATE:20250727
DTSTAMP:20260425T163429
CREATED:20250605T134917Z
LAST-MODIFIED:20250605T171944Z
UID:10001183-1753056000-1753574399@lasallian.info
SUMMARY:Lasallian Social Justice Institute
DESCRIPTION:“El Otro Lado”\nJuly 21-26 • El Paso\, Texas \n\nThe Lasallian Social Justice Institute (LSJI) is a formation program for the Partners and Brothers in the Region based on the Gospel and our Lasallian vocation to the promotion of social justice and service to the poor.
URL:https://lasallian.info/event/lasallian-social-justice-institute/
LOCATION:MO
CATEGORIES:Programs
END:VEVENT
BEGIN:VEVENT
DTSTART;VALUE=DATE:20250714
DTEND;VALUE=DATE:20250719
DTSTAMP:20260425T163429
CREATED:20231218T224454Z
LAST-MODIFIED:20231218T224454Z
UID:10001166-1752451200-1752883199@lasallian.info
SUMMARY:Johnston Institute\, Regional Gathering
DESCRIPTION:Fifth cohort participants will gather as a Region from July 14-18\, 2025\, at Lewis University in Romeoville\, Illinois. \n\nThe Brother John Johnston Institute of Contemporary Lasallian Practice is a two-year Regional formation program that focuses on deepening participants’ understanding of Saint John Baptist de La Salle’s story and vision\, Lasallian pedagogy\, the Lasallian promotion of justice and Lasallian spirituality while utilizing contemporary texts to inform and influence current and future Lasallian practice.
URL:https://lasallian.info/event/johnston-institute-regional-gathering-july25/
LOCATION:Lewis University\, 1 University Parkway\, Romeoville\, IL\, 60446\, United States
CATEGORIES:Programs
END:VEVENT
BEGIN:VEVENT
DTSTART;VALUE=DATE:20250327
DTEND;VALUE=DATE:20250330
DTSTAMP:20260425T163429
CREATED:20231218T195838Z
LAST-MODIFIED:20231218T195838Z
UID:10001158-1743033600-1743292799@lasallian.info
SUMMARY:Johnston Institute\, Midwest Gathering
DESCRIPTION:Fifth cohort Johnston participants from the Midwest District will gather March 27-29\, 2025\, at the Alverna Center on St. Mary’s University’s campus in Winona\, Minnesota. \n\nThe Brother John Johnston Institute of Contemporary Lasallian Practice is a two-year Regional formation program that focuses on deepening participants’ understanding of Saint John Baptist de La Salle’s story and vision\, Lasallian pedagogy\, the Lasallian promotion of justice and Lasallian spirituality while utilizing contemporary texts to inform and influence current and future Lasallian practice.
URL:https://lasallian.info/event/johnston-institute-midwest-gathering-mar25/
LOCATION:Alverna Center\, St. Mary’s University\, 1175 W. Wabasha St.\, Winona\, MN\, 55987\, United States
CATEGORIES:Programs
END:VEVENT
BEGIN:VEVENT
DTSTART;VALUE=DATE:20250320
DTEND;VALUE=DATE:20250323
DTSTAMP:20260425T163429
CREATED:20231218T223148Z
LAST-MODIFIED:20250228T233618Z
UID:10001163-1742428800-1742687999@lasallian.info
SUMMARY:Johnston Institute\, DENA Gathering
DESCRIPTION:Fifth cohort Johnston participants from the District of Eastern North America (DENA) will gather March 20-22\, 2025\, at Bon Secours Retreat Center in Marriottsville\, Maryland. \n\nThe Brother John Johnston Institute of Contemporary Lasallian Practice is a two-year Regional formation program that focuses on deepening participants’ understanding of Saint John Baptist de La Salle’s story and vision\, Lasallian pedagogy\, the Lasallian promotion of justice and Lasallian spirituality while utilizing contemporary texts to inform and influence current and future Lasallian practice.
URL:https://lasallian.info/event/johnston-institute-dena-gathering-mar25/
LOCATION:Bon Secours Retreat Center\, 1525 Marriottsville Rd\, Marriottsville\, MD\, 21104\, United States
CATEGORIES:Programs
END:VEVENT
BEGIN:VEVENT
DTSTART;VALUE=DATE:20250313
DTEND;VALUE=DATE:20250316
DTSTAMP:20260425T163429
CREATED:20231218T194227Z
LAST-MODIFIED:20231218T194227Z
UID:10001155-1741824000-1742083199@lasallian.info
SUMMARY:Johnston Institute\, SFNO Gathering
DESCRIPTION:Fifth cohort Johnston participants from the District of San Francisco New Orleans (SFNO) will gather March 13-15\, 2025\, at Mont La Salle in Napa\, California. \n\nThe Brother John Johnston Institute of Contemporary Lasallian Practice is a two-year Regional formation program that focuses on deepening participants’ understanding of Saint John Baptist de La Salle’s story and vision\, Lasallian pedagogy\, the Lasallian promotion of justice and Lasallian spirituality while utilizing contemporary texts to inform and influence current and future Lasallian practice.
URL:https://lasallian.info/event/johnston-institute-sfno-gathering-mar25/
LOCATION:Mont La Salle\, 4401 Redwood Road\, Napa\, CA\, 94558\, United States
CATEGORIES:Programs
END:VEVENT
BEGIN:VEVENT
DTSTART;TZID=America/New_York:20250108T180000
DTEND;TZID=America/New_York:20250108T190000
DTSTAMP:20260425T163429
CREATED:20241113T195706Z
LAST-MODIFIED:20250108T190259Z
UID:10001171-1736359200-1736362800@lasallian.info
SUMMARY:Regional Webinar - Spiritual Direction: Walking the Sacred Path\, Together
DESCRIPTION:Speakers: Holly Hoey Germann\, Theology Teacher\, Totino-Grace High School\, Fridley\, MN \nEducators who have a deep faith positively impact the young people entrusted to their care. Often\, educators will use their faith as a source of nourishment to sustain their ministry. However\, many find themselves feeling “burnt out\,” isolated in their faith and unsure of where to turn. Spiritual direction can be an antidote to these feelings. \nSpiritual direction\, also called spiritual companioning\, is a contemplative practice. It is a way to grow and deepen one’s faith\, regardless of background\, tradition\, or past experiences. It is a confidential\, professional and sacred relationship between two people who journey together to discover how the Divine is moving in their life. \nThrough this webinar\, Holly will explain spiritual direction as a contemplative practice. She will use Saint John Baptist de La Salle’s life as an example of someone who was committed to spiritual direction and the contemplative life as a way of maintaining his ministry. Finally\, she will lead participants through a prayer experience as a glimpse into a spiritual direction conversation. \nRegister Here
URL:https://lasallian.info/event/regional-webinar-spiritual-direction-walking-the-sacred-path-together/
LOCATION:MO
CATEGORIES:Programs,Webinar
END:VEVENT
BEGIN:VEVENT
DTSTART;TZID=America/New_York:20241104T180000
DTEND;TZID=America/New_York:20241104T190000
DTSTAMP:20260425T163429
CREATED:20240815T143049Z
LAST-MODIFIED:20240815T143049Z
UID:10001167-1730743200-1730746800@lasallian.info
SUMMARY:The Concentration Programs at La Salle College High School: Sparking Academic Interest in Sometimes Overlooked “Average” Students
DESCRIPTION:THE CONCENTRATION PROGRAMS AT LA SALLE COLLEGE HIGH SCHOOL: SPARKING ACADEMIC INTEREST IN SOMETIMES OVERLOOKED “AVERAGE” STUDENTS\nDate: Monday\, November 4\, 2024\, at 6:00 p.m. ET / 3:00 p.m. PT \nSpeakers: Brother Anthony Baginski\, FSC\, Associate Dean for the Concentrations Program\, and Michael Sabatino\, Director of Technology and Information Systems and IT Professional Concentration Coordinator\, La Salle College High School\, Wyndmoor\, PA \nThe concentration programs at La Salle College High School are designed to tap into the transformative potential of tailored educational pathways. This session explores how specialized concentration programs can reignite passion and engagement among students often overlooked by traditional educational models. A significant focus will be on the IT professional concentration\, highlighting its relevance in today’s digital age and its accessibility for many schools to deploy. Learn how schools can integrate this program with minimal resources\, leveraging existing technology and partnerships to provide students with valuable\, industry-relevant skills. \nREGISTER HERE \nLearn more about the fall 2024 Regional webinars.
URL:https://lasallian.info/event/the-concentration-programs-at-la-salle-college-high-school-sparking-academic-interest-in-sometimes-overlooked-average-students/
LOCATION:MO
CATEGORIES:Programs,Webinar
END:VEVENT
BEGIN:VEVENT
DTSTART;VALUE=DATE:20241024
DTEND;VALUE=DATE:20241027
DTSTAMP:20260425T163429
CREATED:20231218T181652Z
LAST-MODIFIED:20231218T223821Z
UID:10001152-1729728000-1729987199@lasallian.info
SUMMARY:Johnston Institute\, DENA Gathering
DESCRIPTION:Fifth cohort Johnston participants from the District of Eastern North America (DENA) will gather October 24-26\, 2024\, at the Shawnee Inn in Shawnee on Delaware\, Pennsylvania. \n\nThe Brother John Johnston Institute of Contemporary Lasallian Practice is a two-year Regional formation program that focuses on deepening participants’ understanding of Saint John Baptist de La Salle’s story and vision\, Lasallian pedagogy\, the Lasallian promotion of justice and Lasallian spirituality while utilizing contemporary texts to inform and influence current and future Lasallian practice.
URL:https://lasallian.info/event/johnston-institute-dena-gathering-oct24/
LOCATION:Shawnee Inn\, 100 Shawnee Inn Dr\, Shawnee on Delaware\, PA\, 18356
CATEGORIES:Programs
END:VEVENT
BEGIN:VEVENT
DTSTART;VALUE=DATE:20241017
DTEND;VALUE=DATE:20241020
DTSTAMP:20260425T163429
CREATED:20231218T182243Z
LAST-MODIFIED:20231218T195847Z
UID:10001153-1729123200-1729382399@lasallian.info
SUMMARY:Johnston Institute\, Midwest Gathering
DESCRIPTION:Fifth cohort Johnston participants from the Midwest District will gather October 17-19\, 2024\, at the Brother David Darst Center in Chicago\, Illinois. \n\nThe Brother John Johnston Institute of Contemporary Lasallian Practice is a two-year Regional formation program that focuses on deepening participants’ understanding of Saint John Baptist de La Salle’s story and vision\, Lasallian pedagogy\, the Lasallian promotion of justice and Lasallian spirituality while utilizing contemporary texts to inform and influence current and future Lasallian practice.
URL:https://lasallian.info/event/johnston-institute-midwest-gathering-oct24/
LOCATION:Brother David Darst Center\, 6336 S. Kilbourn Ave.\, Chicago\, IL\, 60629\, United States
CATEGORIES:Programs
END:VEVENT
BEGIN:VEVENT
DTSTART;TZID=America/New_York:20241016T180000
DTEND;TZID=America/New_York:20241016T190000
DTSTAMP:20260425T163429
CREATED:20240815T142734Z
LAST-MODIFIED:20240815T143101Z
UID:10001165-1729101600-1729105200@lasallian.info
SUMMARY:Fostering a Culture of Vocation: The Call of Everyone Within Our Lasallian Family
DESCRIPTION:FOSTERING A CULTURE OF VOCATION: THE CALL OF EVERYONE WITHIN OUR LASALLIAN FAMILY\nDate: Wednesday\, October 16\, 2024\, at 6:00 p.m. ET / 3:00 p.m. PT \nSpeakers: Brother David Caretti\, FSC\, Director of Vocation Ministry\, District of San Francisco New Orleans\, Napa\, CA\, and Chris Swain\, Director for the Office of Lasallian Vocation Ministry\, Christian Brothers Conference\, Romeoville\, IL \nAll engaged in the Lasallian charism contribute to animating and instilling a culture of vocation – a shared mission to awaken “each person to discover how God desires them to love” and live that out as a “response to the needs of the world” (Circular 475 From Hope to Commitment: Understanding Lasallian Vocations\, 2020). \nThis webinar will provide participants with shared understandings and practical ways to invite\, encourage and accompany colleagues and young people in joyfully discovering the ways in which God is calling them. Within our Lasallian charism and mission\, fostering a culture of vocation is a foundational commitment that forms our Lasallian educational community and provides vision and direction to everyone in carrying out their shared ministry. \nREGISTER HERE \nLearn more about the fall 2024 Regional webinars.
URL:https://lasallian.info/event/fostering-a-culture-of-vocation-the-call-of-everyone-within-our-lasallian-family/
LOCATION:MO
CATEGORIES:Programs,Webinar
END:VEVENT
BEGIN:VEVENT
DTSTART;VALUE=DATE:20241010
DTEND;VALUE=DATE:20241013
DTSTAMP:20260425T163429
CREATED:20240905T192625Z
LAST-MODIFIED:20240905T192850Z
UID:10001168-1728518400-1728777599@lasallian.info
SUMMARY:Johnston Institute\, SFNO Gathering
DESCRIPTION:Fifth cohort Johnston participants from the District of San Francisco New Orleans (SFNO) will gather October 10-12\, 2024\, at the The Cenacle on the Lake Retreat Center in Metairie\, Louisiana. \n\nThe Brother John Johnston Institute of Contemporary Lasallian Practice is a two-year Regional formation program that focuses on deepening participants’ understanding of Saint John Baptist de La Salle’s story and vision\, Lasallian pedagogy\, the Lasallian promotion of justice and Lasallian spirituality while utilizing contemporary texts to inform and influence current and future Lasallian practice.
URL:https://lasallian.info/event/johnston-institute-sfno-gathering/
LOCATION:The Cenacle on the Lake\, 5500 St Mary St.\, Metairie\, LA\, 70006\, United States
CATEGORIES:Programs
END:VEVENT
BEGIN:VEVENT
DTSTART;TZID=America/New_York:20240916T180000
DTEND;TZID=America/New_York:20240916T190000
DTSTAMP:20260425T163429
CREATED:20240815T142457Z
LAST-MODIFIED:20240815T143108Z
UID:10001164-1726509600-1726513200@lasallian.info
SUMMARY:Tradition and Transformation Through the Lens of Lasallian Diversity\, Equity\, Inclusion and Belonging
DESCRIPTION:TRADITION AND TRANSFORMATION THROUGH THE LENS OF LASALLIAN DIVERSITY\, EQUITY\, INCLUSION AND BELONGING\n\n\n\nDate: Monday\, September 16\, 2024\, at 6:00 p.m. ET / 3:00 p.m. PT \nSpeakers: Dr. Carol Ann Gittens\, Dean of the Kalmanovitz School of Education\, Saint Mary’s College of California\, Moraga\, CA\, and Alexsandra Walton\, Director of Inclusion and Belonging\, Saint Mary’s College High School\, Berkeley\, CA \nOne critical topic in the conversation of Lasallian tradition and transformation is Diversity\, Equity\, Inclusion and Belonging (DEIB). This webinar is developed from the more comprehensive Lasallian Institute for Diversity\, Equity\, Inclusion and Belonging offered in the summers of 2022 and 2023 at Saint Mary’s College of California. Building on Huether 2021\, where the emphasis was on inclusion and belonging\, the institute was launched. Over two years\, 50 participants have engaged in this deep work for their school communities. \nThis presentation is for Lasallian educators who are curious about what DEIB means\, who want to begin or advance their own professional development in DEIB and who want practical strategies to bring back to their ministries. The concept of belonging has been a critical element in the tradition of Lasallian schools. How do we continue that tradition today? We are committed to linking DEIB work to our Lasallian Catholic heritage and highlighting where participants can deepen their awareness and approaches of this critical topic for our times. \nREGISTER HERE \nLearn more about the fall 2024 Regional webinars.
URL:https://lasallian.info/event/tradition-and-transformation-through-the-lens-of-lasallian-diversity-equity-inclusion-and-belonging/
LOCATION:MO
CATEGORIES:Programs,Webinar
END:VEVENT
BEGIN:VEVENT
DTSTART;VALUE=DATE:20231010
DTEND;VALUE=DATE:20231013
DTSTAMP:20260425T163429
CREATED:20231218T193704Z
LAST-MODIFIED:20231218T194939Z
UID:10001154-1696896000-1697155199@lasallian.info
SUMMARY:Johnston Institute\, SFNO Gathering
DESCRIPTION:Fifth cohort Johnston participants from the District of San Francisco New Orleans (SFNO) will gather October 10-12\, 2024\, at The Cenacle on the Lake in Metairie\, Louisiana. \n\nThe Brother John Johnston Institute of Contemporary Lasallian Practice is a two-year Regional formation program that focuses on deepening participants’ understanding of Saint John Baptist de La Salle’s story and vision\, Lasallian pedagogy\, the Lasallian promotion of justice and Lasallian spirituality while utilizing contemporary texts to inform and influence current and future Lasallian practice.
URL:https://lasallian.info/event/johnston-institute-sfno-gathering-oct24/
LOCATION:The Cenacle on the Lake\, 5500 St Mary St.\, Metairie\, LA\, 70006\, United States
CATEGORIES:Programs
END:VEVENT
END:VCALENDAR