BEGIN:VCALENDAR
VERSION:2.0
PRODID:-//RELAN - ECPv6.15.20//NONSGML v1.0//EN
CALSCALE:GREGORIAN
METHOD:PUBLISH
X-ORIGINAL-URL:https://lasallian.info
X-WR-CALDESC:Events for RELAN
REFRESH-INTERVAL;VALUE=DURATION:PT1H
X-Robots-Tag:noindex
X-PUBLISHED-TTL:PT1H
BEGIN:VTIMEZONE
TZID:America/New_York
BEGIN:DAYLIGHT
TZOFFSETFROM:-0500
TZOFFSETTO:-0400
TZNAME:EDT
DTSTART:20220313T070000
END:DAYLIGHT
BEGIN:STANDARD
TZOFFSETFROM:-0400
TZOFFSETTO:-0500
TZNAME:EST
DTSTART:20221106T060000
END:STANDARD
BEGIN:DAYLIGHT
TZOFFSETFROM:-0500
TZOFFSETTO:-0400
TZNAME:EDT
DTSTART:20230312T070000
END:DAYLIGHT
BEGIN:STANDARD
TZOFFSETFROM:-0400
TZOFFSETTO:-0500
TZNAME:EST
DTSTART:20231105T060000
END:STANDARD
BEGIN:DAYLIGHT
TZOFFSETFROM:-0500
TZOFFSETTO:-0400
TZNAME:EDT
DTSTART:20240310T070000
END:DAYLIGHT
BEGIN:STANDARD
TZOFFSETFROM:-0400
TZOFFSETTO:-0500
TZNAME:EST
DTSTART:20241103T060000
END:STANDARD
END:VTIMEZONE
BEGIN:VEVENT
DTSTART;VALUE=DATE:20231004
DTEND;VALUE=DATE:20231007
DTSTAMP:20260425T144749
CREATED:20230321T123145Z
LAST-MODIFIED:20230321T124626Z
UID:10000970-1696377600-1696636799@lasallian.info
SUMMARY:Lasallian Education Council (LEC) Retreat
DESCRIPTION:The Lasallian Education Council will gather for a retreat October 4-6\, 2023. \n  \nEstablished in 2011\, the Lasallian Education Council (LEC) is an innovative structure for sharing responsibility for the Lasallian mission between the De La Salle Christian Brothers and Lasallian Partners in the Lasallian Region of North America (RELAN). Learn more about the LEC >
URL:https://lasallian.info/event/lasallian-education-council-lec-retreat/
LOCATION:Mercy Retreat Center\, 2039 N Geyer Rd\, St. Louis\, MO\, 63131\, United States
END:VEVENT
END:VCALENDAR