BEGIN:VCALENDAR
VERSION:2.0
PRODID:-//RELAN - ECPv6.15.20//NONSGML v1.0//EN
CALSCALE:GREGORIAN
METHOD:PUBLISH
X-WR-CALNAME:RELAN
X-ORIGINAL-URL:https://lasallian.info
X-WR-CALDESC:Events for RELAN
REFRESH-INTERVAL;VALUE=DURATION:PT1H
X-Robots-Tag:noindex
X-PUBLISHED-TTL:PT1H
BEGIN:VTIMEZONE
TZID:America/New_York
BEGIN:DAYLIGHT
TZOFFSETFROM:-0500
TZOFFSETTO:-0400
TZNAME:EDT
DTSTART:20260308T070000
END:DAYLIGHT
BEGIN:STANDARD
TZOFFSETFROM:-0400
TZOFFSETTO:-0500
TZNAME:EST
DTSTART:20261101T060000
END:STANDARD
BEGIN:DAYLIGHT
TZOFFSETFROM:-0500
TZOFFSETTO:-0400
TZNAME:EDT
DTSTART:20270314T070000
END:DAYLIGHT
BEGIN:STANDARD
TZOFFSETFROM:-0400
TZOFFSETTO:-0500
TZNAME:EST
DTSTART:20271107T060000
END:STANDARD
BEGIN:DAYLIGHT
TZOFFSETFROM:-0500
TZOFFSETTO:-0400
TZNAME:EDT
DTSTART:20280312T070000
END:DAYLIGHT
BEGIN:STANDARD
TZOFFSETFROM:-0400
TZOFFSETTO:-0500
TZNAME:EST
DTSTART:20281105T060000
END:STANDARD
END:VTIMEZONE
BEGIN:VEVENT
DTSTART;VALUE=DATE:20270318
DTEND;VALUE=DATE:20270321
DTSTAMP:20260423T111605
CREATED:20250821T170659Z
LAST-MODIFIED:20250821T170659Z
UID:10001193-1805328000-1805587199@lasallian.info
SUMMARY:Johnston Institute's Spring Session\, Midwest Gathering
DESCRIPTION:Sixth cohort Johnston Institute participants from the Midwest District will gather at the Mercy Retreat Center in St. Louis\, Missouri\, from March 18-20\, 2027. This third session will be themed: evangelization and the spiritual needs of young people today. \nSee the full cohort VI schedule here. \n\nThe Brother John Johnston Institute of Contemporary Lasallian Practice is a two-year Regional formation program that focuses on deepening participants’ understanding of Saint John Baptist de La Salle’s story and vision\, Lasallian pedagogy\, the Lasallian promotion of justice and Lasallian spirituality while utilizing contemporary texts to inform and influence current and future Lasallian practice.
URL:https://lasallian.info/event/johnston-institutes-spring-session-midwest-gathering-2027/
LOCATION:Mercy Retreat Center\, 2039 N Geyer Rd\, St. Louis\, MO\, 63131\, United States
CATEGORIES:Programs
END:VEVENT
END:VCALENDAR